BEGIN:VCALENDAR
VERSION:2.0
PRODID:-//Hope Church - ECPv5.1.4//NONSGML v1.0//EN
CALSCALE:GREGORIAN
METHOD:PUBLISH
X-WR-CALNAME:Hope Church
X-ORIGINAL-URL:https://hopechurch.net.nz
X-WR-CALDESC:Events for Hope Church
BEGIN:VTIMEZONE
TZID:UTC
BEGIN:STANDARD
TZOFFSETFROM:+0000
TZOFFSETTO:+0000
TZNAME:UTC
DTSTART:20210101T000000
END:STANDARD
END:VTIMEZONE
BEGIN:VEVENT
DTSTART;TZID=UTC:20210103T100000
DTEND;TZID=UTC:20210103T111500
DTSTAMP:20210119T054914
CREATED:20201215T204550Z
LAST-MODIFIED:20201215T204550Z
UID:3455-1609668000-1609672500@hopechurch.net.nz
SUMMARY:Family Service Hornby - 10am
DESCRIPTION:
URL:https://hopechurch.net.nz/event/family-service-hornby-10am/2021-01-03/
LOCATION:Hope Presbyterian Hornby\, 27 Amyes Road\, Christchurch
CATEGORIES:Hornby
ORGANIZER;CN="Esther%20Sabey":MAILTO:esther.sabey@hopechurch.net.nz
END:VEVENT
BEGIN:VEVENT
DTSTART;TZID=UTC:20210103T100000
DTEND;TZID=UTC:20210103T111500
DTSTAMP:20210119T054914
CREATED:20201215T204714Z
LAST-MODIFIED:20210112T033356Z
UID:3458-1609668000-1609672500@hopechurch.net.nz
SUMMARY:Family Service Rolleston - 10am
DESCRIPTION:
URL:https://hopechurch.net.nz/event/family-service-rolleston-10am/2021-01-03/
LOCATION:Rolleston School Hall\, 11 Tennyson Street\, Rolleston
CATEGORIES:Rolleston
ORGANIZER;CN="Steve%20Talbot":MAILTO:stephen.talbot@hopechurch.net.nz
END:VEVENT
BEGIN:VEVENT
DTSTART;TZID=UTC:20210103T100000
DTEND;TZID=UTC:20210103T111500
DTSTAMP:20210119T054914
CREATED:20201215T204937Z
LAST-MODIFIED:20201215T204937Z
UID:3462-1609668000-1609672500@hopechurch.net.nz
SUMMARY:Family Service West Melton - 10am
DESCRIPTION:
URL:https://hopechurch.net.nz/event/family-service-west-melton-10am/2021-01-03/
LOCATION:Hope Halkett\, 668 Halkett Road\, West Melton\, New Zealand
CATEGORIES:West Melton
ORGANIZER;CN="Mark%20Ambundo":MAILTO:mark.ambundo@hopechurch.net.nz
END:VEVENT
BEGIN:VEVENT
DTSTART;TZID=UTC:20210110T100000
DTEND;TZID=UTC:20210110T111500
DTSTAMP:20210119T054914
CREATED:20201215T204550Z
LAST-MODIFIED:20201215T204550Z
UID:3457-1610272800-1610277300@hopechurch.net.nz
SUMMARY:Family Service Hornby - 10am
DESCRIPTION:
URL:https://hopechurch.net.nz/event/family-service-hornby-10am/2021-01-10/
LOCATION:Hope Presbyterian Hornby\, 27 Amyes Road\, Christchurch
CATEGORIES:Hornby
ORGANIZER;CN="Esther%20Sabey":MAILTO:esther.sabey@hopechurch.net.nz
END:VEVENT
BEGIN:VEVENT
DTSTART;TZID=UTC:20210110T100000
DTEND;TZID=UTC:20210110T111500
DTSTAMP:20210119T054914
CREATED:20201215T204714Z
LAST-MODIFIED:20210112T033357Z
UID:3460-1610272800-1610277300@hopechurch.net.nz
SUMMARY:Family Service Rolleston - 10am
DESCRIPTION:
URL:https://hopechurch.net.nz/event/family-service-rolleston-10am/2021-01-10/
LOCATION:Rolleston School Hall\, 11 Tennyson Street\, Rolleston
CATEGORIES:Rolleston
ORGANIZER;CN="Steve%20Talbot":MAILTO:stephen.talbot@hopechurch.net.nz
END:VEVENT
BEGIN:VEVENT
DTSTART;TZID=UTC:20210110T100000
DTEND;TZID=UTC:20210110T111500
DTSTAMP:20210119T054914
CREATED:20201215T204937Z
LAST-MODIFIED:20201215T204937Z
UID:3464-1610272800-1610277300@hopechurch.net.nz
SUMMARY:Family Service West Melton - 10am
DESCRIPTION:
URL:https://hopechurch.net.nz/event/family-service-west-melton-10am/2021-01-10/
LOCATION:Hope Halkett\, 668 Halkett Road\, West Melton\, New Zealand
CATEGORIES:West Melton
ORGANIZER;CN="Mark%20Ambundo":MAILTO:mark.ambundo@hopechurch.net.nz
END:VEVENT
BEGIN:VEVENT
DTSTART;TZID=UTC:20210113T193000
DTEND;TZID=UTC:20210113T203000
DTSTAMP:20210119T054914
CREATED:20200718T022123Z
LAST-MODIFIED:20210112T020604Z
UID:1895-1610566200-1610569800@hopechurch.net.nz
SUMMARY:ONLINE PRAYER MEETING
DESCRIPTION:JOIN US WEEKLY ON WEDNESDAY (EXCEPT 1ST WEDNESDAY) 7:30PM – 8:30PM ON ZOOM. \nSEE ZOOM LINK BELOW: \nJoin Zoom Meeting\nhttps://zoom.us/j/91408723465?pwd=MVRiQ2lkSjVOeG1xdEhjQm9UVjJJZz09 \nMeeting ID: 914 0872 3465\nPasscode: 1122 \n
URL:https://hopechurch.net.nz/event/online-prayer-meeting/2021-01-13/
CATEGORIES:Rolleston
ATTACH;FMTTYPE=image/png:https://hopechurch.net.nz/wp-content/uploads/2020/07/OnlinePrayerMeeting.png
END:VEVENT
BEGIN:VEVENT
DTSTART;TZID=UTC:20210117T090000
DTEND;TZID=UTC:20210117T101500
DTSTAMP:20210119T054914
CREATED:20201215T205718Z
LAST-MODIFIED:20201215T205718Z
UID:3465-1610874000-1610878500@hopechurch.net.nz
SUMMARY:Family Service Hornby - 9am
DESCRIPTION:
URL:https://hopechurch.net.nz/event/family-service-hornby-9am/2021-01-17/
LOCATION:Hope Presbyterian Hornby\, 27 Amyes Road\, Christchurch
CATEGORIES:Hornby
ORGANIZER;CN="Marty%20Redhead":MAILTO:marty.redhead@hopechurch.net.nz
END:VEVENT
BEGIN:VEVENT
DTSTART;TZID=UTC:20210117T093000
DTEND;TZID=UTC:20210117T103000
DTSTAMP:20210119T054914
CREATED:20201215T211023Z
LAST-MODIFIED:20201215T211023Z
UID:3663-1610875800-1610879400@hopechurch.net.nz
SUMMARY:Family Service West Melton - 9:30am
DESCRIPTION:
URL:https://hopechurch.net.nz/event/family-service-west-melton-930am/2021-01-17/
LOCATION:West Melton Community Centre\, 1163 West Coast Road\, West Melton
CATEGORIES:West Melton
ORGANIZER;CN="Mark%20Ambundo":MAILTO:mark.ambundo@hopechurch.net.nz
END:VEVENT
BEGIN:VEVENT
DTSTART;TZID=UTC:20210117T100000
DTEND;TZID=UTC:20210117T111500
DTSTAMP:20210119T054914
CREATED:20201215T204714Z
LAST-MODIFIED:20210112T033357Z
UID:3461-1610877600-1610882100@hopechurch.net.nz
SUMMARY:Family Service Rolleston - 10am
DESCRIPTION:
URL:https://hopechurch.net.nz/event/family-service-rolleston-10am/2021-01-17/
LOCATION:Rolleston School Hall\, 11 Tennyson Street\, Rolleston
CATEGORIES:Rolleston
ORGANIZER;CN="Steve%20Talbot":MAILTO:stephen.talbot@hopechurch.net.nz
END:VEVENT
BEGIN:VEVENT
DTSTART;TZID=UTC:20210117T104500
DTEND;TZID=UTC:20210117T120000
DTSTAMP:20210119T054914
CREATED:20201215T205950Z
LAST-MODIFIED:20201215T205950Z
UID:3515-1610880300-1610884800@hopechurch.net.nz
SUMMARY:Family Service Hornby - 10:45am
DESCRIPTION:
URL:https://hopechurch.net.nz/event/family-service-hornby-1045am/2021-01-17/
LOCATION:Hope Presbyterian Hornby\, 27 Amyes Road\, Christchurch
CATEGORIES:Hornby
ORGANIZER;CN="Marty%20Redhead":MAILTO:marty.redhead@hopechurch.net.nz
END:VEVENT
BEGIN:VEVENT
DTSTART;TZID=UTC:20210119T060000
DTEND;TZID=UTC:20210119T060000
DTSTAMP:20210119T054914
CREATED:20200713T000718Z
LAST-MODIFIED:20210112T210714Z
UID:1203-1611036000-1611036000@hopechurch.net.nz
SUMMARY:Prayer Meeting Hornby
DESCRIPTION:
URL:https://hopechurch.net.nz/event/prayer-meeting-hornby-22/2021-01-19/
CATEGORIES:Hornby
END:VEVENT
BEGIN:VEVENT
DTSTART;TZID=UTC:20210119T071500
DTEND;TZID=UTC:20210119T074500
DTSTAMP:20210119T054914
CREATED:20200713T001249Z
LAST-MODIFIED:20210112T023854Z
UID:1250-1611040500-1611042300@hopechurch.net.nz
SUMMARY:Prayer Meeting Hornby
DESCRIPTION:
URL:https://hopechurch.net.nz/event/prayer-meeting-hornby-23/2021-01-19/
CATEGORIES:Hornby
END:VEVENT
BEGIN:VEVENT
DTSTART;TZID=UTC:20210120T190000
DTEND;TZID=UTC:20210120T200000
DTSTAMP:20210119T054914
CREATED:20201208T202441Z
LAST-MODIFIED:20201208T202934Z
UID:3216-1611169200-1611172800@hopechurch.net.nz
SUMMARY:Corporate Prayer Hornby
DESCRIPTION:
URL:https://hopechurch.net.nz/event/corporate-prayer/2021-01-20/
LOCATION:Hope Presbyterian Hornby\, 27 Amyes Road\, Christchurch
CATEGORIES:Hornby,Prayer
END:VEVENT
BEGIN:VEVENT
DTSTART;TZID=UTC:20210120T190000
DTEND;TZID=UTC:20210120T203000
DTSTAMP:20210119T054914
CREATED:20210101T002449Z
LAST-MODIFIED:20210101T002543Z
UID:3872-1611169200-1611174600@hopechurch.net.nz
SUMMARY:Corporate Prayer - Rolleston
DESCRIPTION:As part of our 3 Weeks of Prayer series\, we will join corporately on Wednesday\, January 20 and 27 in Rolleston and then as a whole church (all sites) in Hornby on February 3rd\, 2021. \n
URL:https://hopechurch.net.nz/event/corporate-prayer-rolleston-2/2021-01-20/
CATEGORIES:Rolleston
ATTACH;FMTTYPE=image/png:https://hopechurch.net.nz/wp-content/uploads/2021/01/prayerfully-sizes-600x200-2.png
END:VEVENT
BEGIN:VEVENT
DTSTART;TZID=UTC:20210122T130000
DTEND;TZID=UTC:20210122T140000
DTSTAMP:20210119T054914
CREATED:20200713T003732Z
LAST-MODIFIED:20210112T215712Z
UID:1422-1611320400-1611324000@hopechurch.net.nz
SUMMARY:Prayer Meeting Rolleston
DESCRIPTION:
URL:https://hopechurch.net.nz/event/prayer-meeting-rolleston-11/2021-01-22/
CATEGORIES:Rolleston
END:VEVENT
BEGIN:VEVENT
DTSTART;TZID=UTC:20210124T090000
DTEND;TZID=UTC:20210124T101500
DTSTAMP:20210119T054914
CREATED:20201215T205718Z
LAST-MODIFIED:20201215T205718Z
UID:3467-1611478800-1611483300@hopechurch.net.nz
SUMMARY:Family Service Hornby - 9am
DESCRIPTION:
URL:https://hopechurch.net.nz/event/family-service-hornby-9am/2021-01-24/
LOCATION:Hope Presbyterian Hornby\, 27 Amyes Road\, Christchurch
CATEGORIES:Hornby
ORGANIZER;CN="Marty%20Redhead":MAILTO:marty.redhead@hopechurch.net.nz
END:VEVENT
BEGIN:VEVENT
DTSTART;TZID=UTC:20210124T093000
DTEND;TZID=UTC:20210124T103000
DTSTAMP:20210119T054914
CREATED:20201215T211023Z
LAST-MODIFIED:20201215T211023Z
UID:3666-1611480600-1611484200@hopechurch.net.nz
SUMMARY:Family Service West Melton - 9:30am
DESCRIPTION:
URL:https://hopechurch.net.nz/event/family-service-west-melton-930am/2021-01-24/
LOCATION:West Melton Community Centre\, 1163 West Coast Road\, West Melton
CATEGORIES:West Melton
ORGANIZER;CN="Mark%20Ambundo":MAILTO:mark.ambundo@hopechurch.net.nz
END:VEVENT
BEGIN:VEVENT
DTSTART;TZID=UTC:20210124T100000
DTEND;TZID=UTC:20210124T111500
DTSTAMP:20210119T054914
CREATED:20201215T204714Z
LAST-MODIFIED:20201215T204714Z
UID:4216-1611482400-1611486900@hopechurch.net.nz
SUMMARY:Family Service Rolleston - 10am
DESCRIPTION:
URL:https://hopechurch.net.nz/event/family-service-rolleston-10am/2021-01-24/
LOCATION:Rolleston School Hall\, 11 Tennyson Street\, Rolleston
CATEGORIES:Rolleston
ORGANIZER;CN="Steve%20Talbot":MAILTO:stephen.talbot@hopechurch.net.nz
END:VEVENT
BEGIN:VEVENT
DTSTART;TZID=UTC:20210124T104500
DTEND;TZID=UTC:20210124T120000
DTSTAMP:20210119T054914
CREATED:20201215T205950Z
LAST-MODIFIED:20201215T205950Z
UID:3517-1611485100-1611489600@hopechurch.net.nz
SUMMARY:Family Service Hornby - 10:45am
DESCRIPTION:
URL:https://hopechurch.net.nz/event/family-service-hornby-1045am/2021-01-24/
LOCATION:Hope Presbyterian Hornby\, 27 Amyes Road\, Christchurch
CATEGORIES:Hornby
ORGANIZER;CN="Marty%20Redhead":MAILTO:marty.redhead@hopechurch.net.nz
END:VEVENT
BEGIN:VEVENT
DTSTART;TZID=UTC:20210126T070000
DTEND;TZID=UTC:20210126T080000
DTSTAMP:20210119T054914
CREATED:20200713T003535Z
LAST-MODIFIED:20210112T220905Z
UID:1397-1611644400-1611648000@hopechurch.net.nz
SUMMARY:Prayer Meeting Rolleston
DESCRIPTION:
URL:https://hopechurch.net.nz/event/prayer-meeting-rolleston-10/2021-01-26/
CATEGORIES:Rolleston
END:VEVENT
BEGIN:VEVENT
DTSTART;TZID=UTC:20210127T190000
DTEND;TZID=UTC:20210127T200000
DTSTAMP:20210119T054914
CREATED:20201208T202441Z
LAST-MODIFIED:20201208T202934Z
UID:3218-1611774000-1611777600@hopechurch.net.nz
SUMMARY:Corporate Prayer Hornby
DESCRIPTION:
URL:https://hopechurch.net.nz/event/corporate-prayer/2021-01-27/
LOCATION:Hope Presbyterian Hornby\, 27 Amyes Road\, Christchurch
CATEGORIES:Hornby,Prayer
END:VEVENT
BEGIN:VEVENT
DTSTART;TZID=UTC:20210127T190000
DTEND;TZID=UTC:20210127T203000
DTSTAMP:20210119T054914
CREATED:20210101T002449Z
LAST-MODIFIED:20210101T002543Z
UID:3874-1611774000-1611779400@hopechurch.net.nz
SUMMARY:Corporate Prayer - Rolleston
DESCRIPTION:As part of our 3 Weeks of Prayer series\, we will join corporately on Wednesday\, January 20 and 27 in Rolleston and then as a whole church (all sites) in Hornby on February 3rd\, 2021. \n
URL:https://hopechurch.net.nz/event/corporate-prayer-rolleston-2/2021-01-27/
CATEGORIES:Rolleston
ATTACH;FMTTYPE=image/png:https://hopechurch.net.nz/wp-content/uploads/2021/01/prayerfully-sizes-600x200-2.png
END:VEVENT
BEGIN:VEVENT
DTSTART;TZID=UTC:20210130T150000
DTEND;TZID=UTC:20210130T180000
DTSTAMP:20210119T054914
CREATED:20201217T031201Z
LAST-MODIFIED:20201223T024927Z
UID:3759-1612018800-1612029600@hopechurch.net.nz
SUMMARY:Hope Women Summer Stroll and Picnic
DESCRIPTION:\n                \n                        \n                            All Hope Women are invited to our first event of 2021!\n\nWe will start with a walk around Halswell Quarry - you choose the difficulty! Either sweat it out up the hill and take in the sights\, or take a leisurely stroll around the garden and surrounds.\n\nThe walk will be followed by a picnic together - food and drinks will be provided.\n\nSaturday 30th January\n3pm\nHalswell Quarry\n\n                        \n                        Name*\n                            \n                            \n                                                    \n                                                    First\n                                                \n                            \n                            \n                                                    \n                                                    Last\n                                                \n                            \n                        Email*\n                            \n                        PhoneRegistration Fee*\n					\n					Price: $ 15.00\n					\n					 Quantity: \n				Funding assistance is available\, please contact esther.sabey@hopechurch.net.nz for more information on this.Medical/dietary requirementsPhoto & Privacy Consent*Yes I consentNo I don't consentI understand that by filling out this form my information may be kept on file by Hope Presbyterian (and it's associated groups) to use for administrative purposes. I understand that photos from this event that may include pictures of me/others may be used by Hope Presbyterian (and it's associated groups) for promotional purposes.\n                            \n          \n            \n            \n            \n            \n            \n            \n            \n            \n            \n        \n                        \n                         jQuery(document).bind('gform_post_render'\, function(event\, formId\, currentPage){if(formId == 43) {gf_global["number_formats"][43] = {"1":{"price":false\,"value":false}\,"2":{"price":false\,"value":false}\,"4":{"price":false\,"value":false}\,"3":{"price":"decimal_dot"\,"value":false}\,"5":{"price":false\,"value":false}\,"6":{"price":false\,"value":false}};if(window["gformInitPriceFields"]) jQuery(document).ready(function(){gformInitPriceFields();} );jQuery('#input_43_4').mask('(999) 999-9999').bind('keypress'\, function(e){if(e.which == 13){jQuery(this).blur();} } );} } );jQuery(document).bind('gform_post_conditional_logic'\, function(event\, formId\, fields\, isInit){} ); jQuery(document).ready(function(){jQuery(document).trigger('gform_post_render'\, [43\, 1]) } ); \n
URL:https://hopechurch.net.nz/event/hope-women-summer-stroll-and-picnic/
LOCATION:Halswell Quarry\, Kennedy's Bush Road\, Halswell
CATEGORIES:Hornby,Rolleston,West Melton
ATTACH;FMTTYPE=image/png:https://hopechurch.net.nz/wp-content/uploads/2020/12/Hope-Website-Event-Banners-1-2.png
ORGANIZER;CN="Esther%20Sabey":MAILTO:esther.sabey@hopechurch.net.nz
END:VEVENT
END:VCALENDAR