BEGIN:VCALENDAR
VERSION:2.0
PRODID:-//Hope Church - ECPv5.1.4//NONSGML v1.0//EN
CALSCALE:GREGORIAN
METHOD:PUBLISH
X-WR-CALNAME:Hope Church
X-ORIGINAL-URL:https://hopechurch.net.nz
X-WR-CALDESC:Events for Hope Church
BEGIN:VTIMEZONE
TZID:UTC
BEGIN:STANDARD
TZOFFSETFROM:+0000
TZOFFSETTO:+0000
TZNAME:UTC
DTSTART:20210101T000000
END:STANDARD
END:VTIMEZONE
BEGIN:VEVENT
DTSTART;VALUE=DATE:20210117
DTEND;VALUE=DATE:20210207
DTSTAMP:20210119T061012
CREATED:20201208T201857Z
LAST-MODIFIED:20201208T202735Z
UID:3214-1610841600-1612655999@hopechurch.net.nz
SUMMARY:3 Weeks of Prayer
DESCRIPTION:
URL:https://hopechurch.net.nz/event/3-weeks-of-prayer/
CATEGORIES:Prayer
END:VEVENT
BEGIN:VEVENT
DTSTART;TZID=UTC:20210131T090000
DTEND;TZID=UTC:20210131T101500
DTSTAMP:20210119T061012
CREATED:20201215T205718Z
LAST-MODIFIED:20201215T205718Z
UID:3468-1612083600-1612088100@hopechurch.net.nz
SUMMARY:Family Service Hornby - 9am
DESCRIPTION:
URL:https://hopechurch.net.nz/event/family-service-hornby-9am/2021-01-31/
LOCATION:Hope Presbyterian Hornby\, 27 Amyes Road\, Christchurch
CATEGORIES:Hornby
ORGANIZER;CN="Marty%20Redhead":MAILTO:marty.redhead@hopechurch.net.nz
END:VEVENT
BEGIN:VEVENT
DTSTART;TZID=UTC:20210131T093000
DTEND;TZID=UTC:20210131T103000
DTSTAMP:20210119T061012
CREATED:20201215T211023Z
LAST-MODIFIED:20201215T211023Z
UID:3667-1612085400-1612089000@hopechurch.net.nz
SUMMARY:Family Service West Melton - 9:30am
DESCRIPTION:
URL:https://hopechurch.net.nz/event/family-service-west-melton-930am/2021-01-31/
LOCATION:West Melton Community Centre\, 1163 West Coast Road\, West Melton
CATEGORIES:West Melton
ORGANIZER;CN="Mark%20Ambundo":MAILTO:mark.ambundo@hopechurch.net.nz
END:VEVENT
BEGIN:VEVENT
DTSTART;TZID=UTC:20210131T100000
DTEND;TZID=UTC:20210131T111500
DTSTAMP:20210119T061012
CREATED:20201215T204714Z
LAST-MODIFIED:20201215T204714Z
UID:4217-1612087200-1612091700@hopechurch.net.nz
SUMMARY:Family Service Rolleston - 10am
DESCRIPTION:
URL:https://hopechurch.net.nz/event/family-service-rolleston-10am/2021-01-31/
LOCATION:Rolleston School Hall\, 11 Tennyson Street\, Rolleston
CATEGORIES:Rolleston
ORGANIZER;CN="Steve%20Talbot":MAILTO:stephen.talbot@hopechurch.net.nz
END:VEVENT
BEGIN:VEVENT
DTSTART;TZID=UTC:20210131T104500
DTEND;TZID=UTC:20210131T120000
DTSTAMP:20210119T061012
CREATED:20201215T205950Z
LAST-MODIFIED:20201215T205950Z
UID:3518-1612089900-1612094400@hopechurch.net.nz
SUMMARY:Family Service Hornby - 10:45am
DESCRIPTION:
URL:https://hopechurch.net.nz/event/family-service-hornby-1045am/2021-01-31/
LOCATION:Hope Presbyterian Hornby\, 27 Amyes Road\, Christchurch
CATEGORIES:Hornby
ORGANIZER;CN="Marty%20Redhead":MAILTO:marty.redhead@hopechurch.net.nz
END:VEVENT
BEGIN:VEVENT
DTSTART;TZID=UTC:20210131T160000
DTEND;TZID=UTC:20210131T180000
DTSTAMP:20210119T061012
CREATED:20200713T020555Z
LAST-MODIFIED:20210112T030438Z
UID:1614-1612108800-1612116000@hopechurch.net.nz
SUMMARY:Messy Church
DESCRIPTION:
URL:https://hopechurch.net.nz/event/messy-church-3/2021-01-31/
LOCATION:Hope Hornby
CATEGORIES:Hornby
END:VEVENT
END:VCALENDAR