BEGIN:VCALENDAR
VERSION:2.0
PRODID:-//Hope Church - ECPv5.1.4//NONSGML v1.0//EN
CALSCALE:GREGORIAN
METHOD:PUBLISH
X-WR-CALNAME:Hope Church
X-ORIGINAL-URL:https://hopechurch.net.nz
X-WR-CALDESC:Events for Hope Church
BEGIN:VTIMEZONE
TZID:UTC
BEGIN:STANDARD
TZOFFSETFROM:+0000
TZOFFSETTO:+0000
TZNAME:UTC
DTSTART:20210101T000000
END:STANDARD
END:VTIMEZONE
BEGIN:VEVENT
DTSTART;VALUE=DATE:20210117
DTEND;VALUE=DATE:20210207
DTSTAMP:20210119T060922
CREATED:20201208T201857Z
LAST-MODIFIED:20201208T202735Z
UID:3214-1610841600-1612655999@hopechurch.net.nz
SUMMARY:3 Weeks of Prayer
DESCRIPTION:
URL:https://hopechurch.net.nz/event/3-weeks-of-prayer/
CATEGORIES:Prayer
END:VEVENT
BEGIN:VEVENT
DTSTART;TZID=UTC:20210127T190000
DTEND;TZID=UTC:20210127T200000
DTSTAMP:20210119T060922
CREATED:20201208T202441Z
LAST-MODIFIED:20201208T202934Z
UID:3218-1611774000-1611777600@hopechurch.net.nz
SUMMARY:Corporate Prayer Hornby
DESCRIPTION:
URL:https://hopechurch.net.nz/event/corporate-prayer/2021-01-27/
LOCATION:Hope Presbyterian Hornby\, 27 Amyes Road\, Christchurch
CATEGORIES:Hornby,Prayer
END:VEVENT
BEGIN:VEVENT
DTSTART;TZID=UTC:20210127T190000
DTEND;TZID=UTC:20210127T203000
DTSTAMP:20210119T060922
CREATED:20210101T002449Z
LAST-MODIFIED:20210101T002543Z
UID:3874-1611774000-1611779400@hopechurch.net.nz
SUMMARY:Corporate Prayer - Rolleston
DESCRIPTION:As part of our 3 Weeks of Prayer series\, we will join corporately on Wednesday\, January 20 and 27 in Rolleston and then as a whole church (all sites) in Hornby on February 3rd\, 2021. \n
URL:https://hopechurch.net.nz/event/corporate-prayer-rolleston-2/2021-01-27/
CATEGORIES:Rolleston
ATTACH;FMTTYPE=image/png:https://hopechurch.net.nz/wp-content/uploads/2021/01/prayerfully-sizes-600x200-2.png
END:VEVENT
END:VCALENDAR